BEGIN:VCALENDAR
VERSION:2.0
PRODID:-//https://townofantigonish.ca//NONSGML kigkonsult.se iCalcreator 2.
 29.29//
CALSCALE:GREGORIAN
METHOD:PUBLISH
UID:e87561ee-f474-4c47-852a-d1dc52f7e8a2
X-WR-CALNAME:JCal Pro Calendar
X-WR-CALDESC:Your online events calendar
X-WR-TIMEZONE:America/Halifax
BEGIN:VTIMEZONE
TZID:America/Halifax
BEGIN:STANDARD
TZNAME:AST
DTSTART:20251102T020000
TZOFFSETFROM:-0300
TZOFFSETTO:-0400
RDATE:20261101T020000
END:STANDARD
BEGIN:DAYLIGHT
TZNAME:ADT
DTSTART:20260308T020000
TZOFFSETFROM:-0400
TZOFFSETTO:-0300
RDATE:20270314T020000
END:DAYLIGHT
END:VTIMEZONE
BEGIN:VEVENT
UID:20260408T170000ADT-4676RtIVWd@https://www.townofantigonish.ca/
DTSTAMP:20260423T165940Z
CATEGORIES:Committee Meetings
DTSTART;TZID=America/Halifax:20260423T180000
DTEND;TZID=America/Halifax:20260423T180000
SUMMARY:Audit Committee Meeting
URL:https://townofantigonish.ca/95-committee-meetings/75-audit-committee-me
 eting.html
END:VEVENT
BEGIN:VEVENT
UID:20250603T200000ADT-9564m0tdmn@https://www.townofantigonish.ca/
DTSTAMP:20260423T165940Z
CATEGORIES:Council Meetings
DESCRIPTION:<p>Start time of 8 p.m. is an estimate. The meeting will start 
 following the conclusion of the Audit Committee.&nbsp\;</p>
DTSTART;TZID=America/Halifax:20260423T200000
DTEND;TZID=America/Halifax:20260423T200000
SUMMARY:Special Council Meeting
URL:https://townofantigonish.ca/94-council-meetings/24-special-council-meet
 ing.html
X-ALT-DESC;FMTTYPE=TEXT/HTML:<p>Start time of 8 p.m. is an estimate. The me
 eting will start following the conclusion of the Audit Committee.&nbsp\;</
 p>
END:VEVENT
END:VCALENDAR
